BEGIN:VCALENDAR
VERSION:2.0
PRODID:-//BaselCircular - ECPv6.15.20//NONSGML v1.0//EN
CALSCALE:GREGORIAN
METHOD:PUBLISH
X-WR-CALNAME:BaselCircular
X-ORIGINAL-URL:https://baselcircular.ch
X-WR-CALDESC:Veranstaltungen für BaselCircular
REFRESH-INTERVAL;VALUE=DURATION:PT1H
X-Robots-Tag:noindex
X-PUBLISHED-TTL:PT1H
BEGIN:VTIMEZONE
TZID:Europe/Zurich
BEGIN:DAYLIGHT
TZOFFSETFROM:+0100
TZOFFSETTO:+0200
TZNAME:CEST
DTSTART:20250330T010000
END:DAYLIGHT
BEGIN:STANDARD
TZOFFSETFROM:+0200
TZOFFSETTO:+0100
TZNAME:CET
DTSTART:20251026T010000
END:STANDARD
BEGIN:DAYLIGHT
TZOFFSETFROM:+0100
TZOFFSETTO:+0200
TZNAME:CEST
DTSTART:20260329T010000
END:DAYLIGHT
BEGIN:STANDARD
TZOFFSETFROM:+0200
TZOFFSETTO:+0100
TZNAME:CET
DTSTART:20261025T010000
END:STANDARD
BEGIN:DAYLIGHT
TZOFFSETFROM:+0100
TZOFFSETTO:+0200
TZNAME:CEST
DTSTART:20270328T010000
END:DAYLIGHT
BEGIN:STANDARD
TZOFFSETFROM:+0200
TZOFFSETTO:+0100
TZNAME:CET
DTSTART:20271031T010000
END:STANDARD
END:VTIMEZONE
BEGIN:VEVENT
DTSTART;TZID=Europe/Zurich:20260309T080000
DTEND;TZID=Europe/Zurich:20260316T233000
DTSTAMP:20260425T123211
CREATED:20260423T134024Z
LAST-MODIFIED:20260423T134024Z
UID:65199-1773043200-1773703800@baselcircular.ch
SUMMARY:Sustainability Week Basel
DESCRIPTION:Die Nachhaltigkeitswoche findet an verschiedenen Universitäten in der ganzen Schweiz statt und bietet ein vielfältiges Programm zum Thema Nachhaltigkeit. Die Teilnahme ist kostenlos und steht allen offen!
URL:https://baselcircular.ch/calendar/sustainability-week-basel-3/
CATEGORIES:Event
ATTACH;FMTTYPE=image/jpeg:https://baselcircular.ch/wp-content/uploads/2026/01/Sustainability_week_2026-768x768-1.jpg
END:VEVENT
END:VCALENDAR