BEGIN:VCALENDAR
VERSION:2.0
PRODID:-//BaselCircular - ECPv6.15.20//NONSGML v1.0//EN
CALSCALE:GREGORIAN
METHOD:PUBLISH
X-WR-CALNAME:BaselCircular
X-ORIGINAL-URL:https://baselcircular.ch
X-WR-CALDESC:Veranstaltungen für BaselCircular
REFRESH-INTERVAL;VALUE=DURATION:PT1H
X-Robots-Tag:noindex
X-PUBLISHED-TTL:PT1H
BEGIN:VTIMEZONE
TZID:Europe/Zurich
BEGIN:DAYLIGHT
TZOFFSETFROM:+0100
TZOFFSETTO:+0200
TZNAME:CEST
DTSTART:20250330T010000
END:DAYLIGHT
BEGIN:STANDARD
TZOFFSETFROM:+0200
TZOFFSETTO:+0100
TZNAME:CET
DTSTART:20251026T010000
END:STANDARD
BEGIN:DAYLIGHT
TZOFFSETFROM:+0100
TZOFFSETTO:+0200
TZNAME:CEST
DTSTART:20260329T010000
END:DAYLIGHT
BEGIN:STANDARD
TZOFFSETFROM:+0200
TZOFFSETTO:+0100
TZNAME:CET
DTSTART:20261025T010000
END:STANDARD
BEGIN:DAYLIGHT
TZOFFSETFROM:+0100
TZOFFSETTO:+0200
TZNAME:CEST
DTSTART:20270328T010000
END:DAYLIGHT
BEGIN:STANDARD
TZOFFSETFROM:+0200
TZOFFSETTO:+0100
TZNAME:CET
DTSTART:20271031T010000
END:STANDARD
END:VTIMEZONE
BEGIN:VEVENT
DTSTART;TZID=Europe/Zurich:20260429T180000
DTEND;TZID=Europe/Zurich:20260429T200000
DTSTAMP:20260425T140718
CREATED:20260407T145936Z
LAST-MODIFIED:20260421T133601Z
UID:57828-1777485600-1777492800@baselcircular.ch
SUMMARY:Sustainability Safari @ Wildbiene + Partner
DESCRIPTION:Die Sustainability Safari bietet exklusive Einblicke in die Arbeit von Wildbiene + Partner\, einem ETH-Spin-off mit Fokus auf die Förderung von Biodiversität in Städten. Im Zentrum stehen praxisnahe Lösungen rund um Wildbienen\, Lebensraumgestaltung und messbare ökologische Wirkung. Die Veranstaltung zeigt\, wie wissenschaftliche Expertise\, technologische Ansätze und Citizen Science kombiniert werden\, um konkrete Umweltprobleme anzugehen. Gleichzeitig bietet sich die Gelegenheit zum Austausch und zur Vernetzung im Kontext nachhaltiger Geschäftsmodelle und Impact-Initiativen – inklusive Apéro.
URL:https://baselcircular.ch/calendar/sustainability-safari-wildbiene-partner/
CATEGORIES:Event
END:VEVENT
END:VCALENDAR