BEGIN:VCALENDAR
VERSION:2.0
PRODID:-//BaselCircular - ECPv6.15.20//NONSGML v1.0//EN
CALSCALE:GREGORIAN
METHOD:PUBLISH
X-WR-CALNAME:BaselCircular
X-ORIGINAL-URL:https://baselcircular.ch
X-WR-CALDESC:Veranstaltungen für BaselCircular
REFRESH-INTERVAL;VALUE=DURATION:PT1H
X-Robots-Tag:noindex
X-PUBLISHED-TTL:PT1H
BEGIN:VTIMEZONE
TZID:Europe/Zurich
BEGIN:DAYLIGHT
TZOFFSETFROM:+0100
TZOFFSETTO:+0200
TZNAME:CEST
DTSTART:20250330T010000
END:DAYLIGHT
BEGIN:STANDARD
TZOFFSETFROM:+0200
TZOFFSETTO:+0100
TZNAME:CET
DTSTART:20251026T010000
END:STANDARD
BEGIN:DAYLIGHT
TZOFFSETFROM:+0100
TZOFFSETTO:+0200
TZNAME:CEST
DTSTART:20260329T010000
END:DAYLIGHT
BEGIN:STANDARD
TZOFFSETFROM:+0200
TZOFFSETTO:+0100
TZNAME:CET
DTSTART:20261025T010000
END:STANDARD
BEGIN:DAYLIGHT
TZOFFSETFROM:+0100
TZOFFSETTO:+0200
TZNAME:CEST
DTSTART:20270328T010000
END:DAYLIGHT
BEGIN:STANDARD
TZOFFSETFROM:+0200
TZOFFSETTO:+0100
TZNAME:CET
DTSTART:20271031T010000
END:STANDARD
END:VTIMEZONE
BEGIN:VEVENT
DTSTART;TZID=Europe/Zurich:20260423T133000
DTEND;TZID=Europe/Zurich:20260424T150000
DTSTAMP:20260424T134957
CREATED:20260226T071257Z
LAST-MODIFIED:20260421T133551Z
UID:40592-1776951000-1777042800@baselcircular.ch
SUMMARY:Full Circle Symposium 2026
DESCRIPTION:Wer spielt welche Rolle in der Kreislaufwirtschaft? Wie arbeiten Unternehmen\, Forschung und Gesellschaft wirksam zusammen – und wie können sie voneinander profitieren?\nDas zweite Symposium für Kreislaufwirtschaft der Hochschule für Wirtschaft FHNW und der Hochschule für Gestaltung und Kunst Basel FHNW bringt zentrale Akteur:innen an einen Tisch\, vernetzt Kompetenzen und setzt Impulse für einen beschleunigten\, nachhaltigen und wirksamen Wandel.\nDas Symposium macht Erfolge in der Kreislaufwirtschaft sichtbar\, stärkt Kooperationen\, ermutigt Innovator:innen und schafft ein Momentum für bessere Rahmenbedingungen – damit die Transformation nicht nur diskutiert\, sondern konkret vorangetrieben wird.
URL:https://baselcircular.ch/calendar/full-circle-symposium/
CATEGORIES:Event
ATTACH;FMTTYPE=image/png:https://baselcircular.ch/wp-content/uploads/2026/02/download.png
END:VEVENT
END:VCALENDAR