BEGIN:VCALENDAR
VERSION:2.0
PRODID:-//BaselCircular - ECPv6.15.20//NONSGML v1.0//EN
CALSCALE:GREGORIAN
METHOD:PUBLISH
X-WR-CALNAME:BaselCircular
X-ORIGINAL-URL:https://baselcircular.ch
X-WR-CALDESC:Veranstaltungen für BaselCircular
REFRESH-INTERVAL;VALUE=DURATION:PT1H
X-Robots-Tag:noindex
X-PUBLISHED-TTL:PT1H
BEGIN:VTIMEZONE
TZID:Europe/Zurich
BEGIN:DAYLIGHT
TZOFFSETFROM:+0100
TZOFFSETTO:+0200
TZNAME:CEST
DTSTART:20250330T010000
END:DAYLIGHT
BEGIN:STANDARD
TZOFFSETFROM:+0200
TZOFFSETTO:+0100
TZNAME:CET
DTSTART:20251026T010000
END:STANDARD
BEGIN:DAYLIGHT
TZOFFSETFROM:+0100
TZOFFSETTO:+0200
TZNAME:CEST
DTSTART:20260329T010000
END:DAYLIGHT
BEGIN:STANDARD
TZOFFSETFROM:+0200
TZOFFSETTO:+0100
TZNAME:CET
DTSTART:20261025T010000
END:STANDARD
BEGIN:DAYLIGHT
TZOFFSETFROM:+0100
TZOFFSETTO:+0200
TZNAME:CEST
DTSTART:20270328T010000
END:DAYLIGHT
BEGIN:STANDARD
TZOFFSETFROM:+0200
TZOFFSETTO:+0100
TZNAME:CET
DTSTART:20271031T010000
END:STANDARD
END:VTIMEZONE
BEGIN:VEVENT
DTSTART;TZID=Europe/Zurich:20260430T090000
DTEND;TZID=Europe/Zurich:20260430T150000
DTSTAMP:20260425T141137
CREATED:20260305T071325Z
LAST-MODIFIED:20260421T133550Z
UID:44208-1777539600-1777561200@baselcircular.ch
SUMMARY:Forum Kreislaufwirtschaft Bern 2026
DESCRIPTION:Das 4. Forum Kreislaufwirtschaft Bern 2026 bringt Expert:innen aus Wirtschaft\, Forschung\, Verwaltung und Politik zusammen\, um aktuelle Entwicklungen\, Chancen und Herausforderungen der Kreislaufwirtschaft zu diskutieren. Im Fokus stehen praxisnahe Lösungsansätze\, neue Geschäftsmodelle und regionale Initiativen\, die den Übergang zu einer nachhaltigen Wirtschaftsweise beschleunigen.\nDas Programm umfasst Fachinputs zu regulatorischen Entwicklungen in der Schweiz und Europa\, Praxisbeispiele aus Unternehmen sowie Pitches und die Preisverleihung der Bern Upcycling Challenge. In anschliessenden Breakout-Sessions werden Themen wie regionale Wertschöpfungsketten\, kreislauffähige Bauwirtschaft\, Mehrwegverpackungen oder Innovationen in der Medizintechnik vertieft. Der Anlass bietet zudem Raum für Austausch und Networking zwischen den Teilnehmenden.\nDatum: 30. April 2026\nZeit: 09:00 – 15:00 Uhr\nOrt: Switzerland Innovation Park Biel/Bienne\, Aarbergstrasse 46\, 2503 Biel/Bienne\nDie Veranstaltung richtet sich an Fachpersonen aus Unternehmen\, Verwaltung\, Forschung und Organisationen\, die Kreislaufwirtschaft in der Praxis vorantreiben möchten.
URL:https://baselcircular.ch/calendar/forum-kreislaufwirtschaft-bern-2026/
CATEGORIES:Event
END:VEVENT
END:VCALENDAR