BEGIN:VCALENDAR
VERSION:2.0
PRODID:-//BaselCircular - ECPv6.15.20//NONSGML v1.0//EN
CALSCALE:GREGORIAN
METHOD:PUBLISH
X-WR-CALNAME:BaselCircular
X-ORIGINAL-URL:https://baselcircular.ch
X-WR-CALDESC:Veranstaltungen für BaselCircular
REFRESH-INTERVAL;VALUE=DURATION:PT1H
X-Robots-Tag:noindex
X-PUBLISHED-TTL:PT1H
BEGIN:VTIMEZONE
TZID:Europe/Zurich
BEGIN:DAYLIGHT
TZOFFSETFROM:+0100
TZOFFSETTO:+0200
TZNAME:CEST
DTSTART:20250330T010000
END:DAYLIGHT
BEGIN:STANDARD
TZOFFSETFROM:+0200
TZOFFSETTO:+0100
TZNAME:CET
DTSTART:20251026T010000
END:STANDARD
BEGIN:DAYLIGHT
TZOFFSETFROM:+0100
TZOFFSETTO:+0200
TZNAME:CEST
DTSTART:20260329T010000
END:DAYLIGHT
BEGIN:STANDARD
TZOFFSETFROM:+0200
TZOFFSETTO:+0100
TZNAME:CET
DTSTART:20261025T010000
END:STANDARD
BEGIN:DAYLIGHT
TZOFFSETFROM:+0100
TZOFFSETTO:+0200
TZNAME:CEST
DTSTART:20270328T010000
END:DAYLIGHT
BEGIN:STANDARD
TZOFFSETFROM:+0200
TZOFFSETTO:+0100
TZNAME:CET
DTSTART:20271031T010000
END:STANDARD
END:VTIMEZONE
BEGIN:VEVENT
DTSTART;TZID=Europe/Zurich:20260429T090000
DTEND;TZID=Europe/Zurich:20260429T130000
DTSTAMP:20260424T135708
CREATED:20260402T095723Z
LAST-MODIFIED:20260421T133546Z
UID:55317-1777453200-1777467600@baselcircular.ch
SUMMARY:Co-Founder Matchmaking Event
DESCRIPTION:Du bist auf der Suche nach einem Co-Founder für dein Startup oder möchtest dein Talent in ein vielversprechendes Startup einbringen? Dann ist dieses Event genau das Richtige! Das Programm umfasst inspirierende Keynotes\, Startup-Pitches\, Speed-Dating-Sessions mit über 15 Startups sowie ein gemeinsames Networking-Mittagessen. Über eine smarte Networking-Plattform kannst du deine ‘Dates’ vorab auswählen und so gezielt passende Matches finden.
URL:https://baselcircular.ch/calendar/co-founder-matchmaking-event-3/
CATEGORIES:Event
END:VEVENT
END:VCALENDAR