BEGIN:VCALENDAR
VERSION:2.0
PRODID:-//BaselCircular - ECPv6.15.20//NONSGML v1.0//EN
CALSCALE:GREGORIAN
METHOD:PUBLISH
X-WR-CALNAME:BaselCircular
X-ORIGINAL-URL:https://baselcircular.ch
X-WR-CALDESC:Veranstaltungen für BaselCircular
REFRESH-INTERVAL;VALUE=DURATION:PT1H
X-Robots-Tag:noindex
X-PUBLISHED-TTL:PT1H
BEGIN:VTIMEZONE
TZID:Europe/Zurich
BEGIN:DAYLIGHT
TZOFFSETFROM:+0100
TZOFFSETTO:+0200
TZNAME:CEST
DTSTART:20250330T010000
END:DAYLIGHT
BEGIN:STANDARD
TZOFFSETFROM:+0200
TZOFFSETTO:+0100
TZNAME:CET
DTSTART:20251026T010000
END:STANDARD
BEGIN:DAYLIGHT
TZOFFSETFROM:+0100
TZOFFSETTO:+0200
TZNAME:CEST
DTSTART:20260329T010000
END:DAYLIGHT
BEGIN:STANDARD
TZOFFSETFROM:+0200
TZOFFSETTO:+0100
TZNAME:CET
DTSTART:20261025T010000
END:STANDARD
BEGIN:DAYLIGHT
TZOFFSETFROM:+0100
TZOFFSETTO:+0200
TZNAME:CEST
DTSTART:20270328T010000
END:DAYLIGHT
BEGIN:STANDARD
TZOFFSETFROM:+0200
TZOFFSETTO:+0100
TZNAME:CET
DTSTART:20271031T010000
END:STANDARD
END:VTIMEZONE
BEGIN:VEVENT
DTSTART;TZID=Europe/Zurich:20260504T000000
DTEND;TZID=Europe/Zurich:20260509T000000
DTSTAMP:20260425T140357
CREATED:20260417T145906Z
LAST-MODIFIED:20260421T133546Z
UID:61209-1777852800-1778284800@baselcircular.ch
SUMMARY:Climate Week Zurich
DESCRIPTION:Die Climate Week Zurich ist Europas führende geschäftsorientierte Klimaplattform\, die Unternehmensleader\, Politikerinnen\, Forschende\, Kreative und Innovatorinnen zusammenbringt\, um gemeinsam smarte Klimamassnahmen zu entwickeln und zu skalieren. Während einer Woche finden über 250 Partner-Events in der ganzen Stadt Zürich statt\, die 12 zentrale Klima- und Businessthemen abdecken – von Biodiversität\, Kreislaufwirtschaft und Energie bis hin zu nachhaltiger Finanzierung\, Anpassung & Resilienz sowie Klimagerechtigkeit. Die Veranstaltung richtet sich an ein breites\, globales wie lokales Publikum und wurde von ecoinvent und Greenbuzz ins Leben gerufen\, inspiriert von der New York Climate Week.
URL:https://baselcircular.ch/calendar/climate-week-zurich/
CATEGORIES:Event
END:VEVENT
END:VCALENDAR