BEGIN:VCALENDAR
VERSION:2.0
PRODID:-//BaselCircular - ECPv6.15.20//NONSGML v1.0//EN
CALSCALE:GREGORIAN
METHOD:PUBLISH
X-WR-CALNAME:BaselCircular
X-ORIGINAL-URL:https://baselcircular.ch
X-WR-CALDESC:Veranstaltungen für BaselCircular
REFRESH-INTERVAL;VALUE=DURATION:PT1H
X-Robots-Tag:noindex
X-PUBLISHED-TTL:PT1H
BEGIN:VTIMEZONE
TZID:Europe/Zurich
BEGIN:DAYLIGHT
TZOFFSETFROM:+0100
TZOFFSETTO:+0200
TZNAME:CEST
DTSTART:20250330T010000
END:DAYLIGHT
BEGIN:STANDARD
TZOFFSETFROM:+0200
TZOFFSETTO:+0100
TZNAME:CET
DTSTART:20251026T010000
END:STANDARD
BEGIN:DAYLIGHT
TZOFFSETFROM:+0100
TZOFFSETTO:+0200
TZNAME:CEST
DTSTART:20260329T010000
END:DAYLIGHT
BEGIN:STANDARD
TZOFFSETFROM:+0200
TZOFFSETTO:+0100
TZNAME:CET
DTSTART:20261025T010000
END:STANDARD
BEGIN:DAYLIGHT
TZOFFSETFROM:+0100
TZOFFSETTO:+0200
TZNAME:CEST
DTSTART:20270328T010000
END:DAYLIGHT
BEGIN:STANDARD
TZOFFSETFROM:+0200
TZOFFSETTO:+0100
TZNAME:CET
DTSTART:20271031T010000
END:STANDARD
END:VTIMEZONE
BEGIN:VEVENT
DTSTART;TZID=Europe/Zurich:20260429T180000
DTEND;TZID=Europe/Zurich:20260429T200000
DTSTAMP:20260425T140126
CREATED:20260306T071623Z
LAST-MODIFIED:20260421T133542Z
UID:44637-1777485600-1777492800@baselcircular.ch
SUMMARY:Basel Entrepreneurs Meetup
DESCRIPTION:Das Basel Entrepreneurs Meetup bringt Gründer:innen\, angehende Unternehmer:innen\, Investor:innen und Startup-Interessierte zusammen\, um Erfahrungen zu teilen und voneinander zu lernen. In einer offenen und kollegialen Atmosphäre stehen praxisnahe Einblicke in den Gründungsalltag im Mittelpunkt – von Herausforderungen beim Aufbau eines Teams bis zu den wichtigsten Learnings aus gescheiterten oder erfolgreichen Projekten.\nDas Programm umfasst eine kurze Begrüssung\, eine „Hot Seat“-Session\, in der ein Gastunternehmer seine Startup-Geschichte und zentrale Erkenntnisse teilt\, sowie einen moderierten Entrepreneur Exchange\, der den aktiven Austausch zwischen den Teilnehmenden fördert.\nZeit: 18:00–20:00 Uhr\nOrt: Startup Academy Basel\, Picassoplatz 4\, Basel\nIm Anschluss besteht die Möglichkeit zum informellen Networking bei Drinks. 
URL:https://baselcircular.ch/calendar/basel-entrepreneurs-meetup-2/
CATEGORIES:Event
END:VEVENT
END:VCALENDAR